BEGIN:VCALENDAR
VERSION:2.0
PRODID:-//VIQTOR DAVIS - ECPv4.7.2//NONSGML v1.0//EN
CALSCALE:GREGORIAN
METHOD:PUBLISH
X-WR-CALNAME:VIQTOR DAVIS
X-ORIGINAL-URL:https://www.viqtordavis.com
X-WR-CALDESC:Events for VIQTOR DAVIS
BEGIN:VEVENT
DTSTART;TZID=Europe/London:20190926T100000
DTEND;TZID=Europe/London:20190926T110000
DTSTAMP:20190822T075125
CREATED:20190814T074016Z
LAST-MODIFIED:20190814T074150Z
UID:3242-1569492000-1569495600@www.viqtordavis.com
SUMMARY:Analytics\, meet data management
DESCRIPTION:Free webinar\nSeptember 26\, 10-11am \nClick here to book your free place now. \nEvery organisation wants to be data-driven these days. But what does “data driven” really mean? Translated\, it means organisations want increased visibility of their inner workings\, better understanding of the dynamics of the market in which they operate\, insight into their customers’ demographic profiles and behaviours\, and the performance of their products. \nWith the heightened level of visibility and insight organisations can answer questions and make better decisions. Couple these aspirations with increased levels of data literacy among business audiences\, and it’s clear to see the pressure is building on analytics functions to deliver\, and deliver quickly. \nThere is a gap between the business and the insights a business requires to meet their aspirations that analytics solutions alone struggle to cross\, significantly slowing them down. This webinar will highlight the specific issues that prevent the fast delivery of insight and increased business agility\, and how the VIQTOR DAVIS data delta method dramatically accelerates analytics processes. \nSign up for our webinar to learn:- \n\nThe business reaction to the “data race” and why they are left feeling frustrated.\nThe root of the problem that leads to frustration.\nThe constituent disciplines that make up analytics and the processes they follow.\nHow the data delta method directly addresses inefficiencies in their processes and common working practices.\nHow the wider business functions outside of analytics benefits from crossing the data delta.\n\nWho should attend?\nThis webinar is aimed at both the producers and consumers of insights and analytics\, CAOs\, CDOs\, CIOs\, CMOs\, commercial leaders\, data scientists\, business intelligence professionals and anyone who is interested in learning how they can increase the speed of insight delivery and decrease their time to action – improving business agility. \nBook your place now\nPlaces are free but numbers are limited so click here to book yours now. \n
URL:https://www.viqtordavis.com/event/analytics-meet-data-management/
CATEGORIES:Webinars
ATTACH;FMTTYPE=image/jpeg:https://www.viqtordavis.com/wp-content/uploads/2019/01/Data_Governance.jpg
END:VEVENT
BEGIN:VEVENT
DTSTART;TZID=Europe/London:20191009T083000
DTEND;TZID=Europe/London:20191009T153000
DTSTAMP:20190822T075125
CREATED:20190802T073857Z
LAST-MODIFIED:20190802T073857Z
UID:3238-1570609800-1570635000@www.viqtordavis.com
SUMMARY:Informatica World Tour London
DESCRIPTION:VIQTOR DAVIS is proud to be sponsoring this event. \nWhether you are tackling complex challenges\, driving innovation or disrupting your industry\, effective hybrid data management delivers tangible results. And now with artificial intelligence (AI) and machine learning at scale\, you have the intelligent data management needed to accelerate your data-driven digital transformation. \nInformatica World Tour 2019 is for business and technology professionals who understand the transformative power of data and who are interested in learning about the latest market trends and inspiring ideas from industry analysts\, thought leaders\, customers\, partners\, and Informatica product experts – across cloud/hybrid data management\, next generation analytics\, data governance and privacy and 360 engagement. \n
URL:https://www.viqtordavis.com/event/informatica-world-tour-london/
LOCATION:etc.venues County Hall\, Riverside Building\, Belvedere Road\, London\, London\, SE1 7PB\, United Kingdom
CATEGORIES:Informatica Events
ATTACH;FMTTYPE=image/png:https://www.viqtordavis.com/wp-content/uploads/2018/10/viqtor-davis-informatica-1.png
END:VEVENT
BEGIN:VEVENT
DTSTART;TZID=Europe/London:20191030T100000
DTEND;TZID=Europe/London:20191030T110000
DTSTAMP:20190822T075125
CREATED:20181008T111952Z
LAST-MODIFIED:20190802T063325Z
UID:2636-1572429600-1572433200@www.viqtordavis.com
SUMMARY:Achieving connected data governance – unlocking the power of your data to help you effectively complete and comply
DESCRIPTION:Achieving connected data governance\nUnlocking the power of your data to help you effectively complete and comply\n \nFree webinar – VIQTOR DAVIS in conjunction with Informatica\nOctober 30\, 10-11am \nBook your free place now. \nEveryone wants their organisation to be data driven but the reality is that achieving this is easier said than done. To be truly data driven\, everyone in your organisation needs to be able to access the data that they need\, to understand where it has come from and how it can be used\, and be confident that it’s accurate and reliable. Without good data governance\, none of these things are possible. \nData is one of your organisation’s greatest assets\, but without connected data governance you will struggle to unlock the information held within it that you need in order to be able to complete effectively or to achieve regulatory compliance. \nThe gap between business needs and IT focus is still one of the most powerful barriers to achieving connected data governance. This webinar will show you how to get your line-of-business teams and your IT people pulling in the same direction\, and how the VIQTOR DAVIS data delta method can help you achieve a solid\, connected data governance foundation in your organisation. \nWhat will I learn? \nIn just one hour you will learn how achieving connected data governance ensures that: – \n\nEveryone in your organisation can quickly find the data they need in order to do their jobs\nBusiness users know where their data has come from\, who owns it and how they can (and can’t) use it\nYou can trust that your data is correct and confidently use it to make faster\, better business decisions\, responding to environmental changes more quickly\nYour organisation’s data becomes a trusted asset that effectively drives business value rather than a source of dispute between different organisational teams\nYour organisation can use its data to confidently achieve regulatory compliance\n\nWho should attend? \nThis webinar is aimed at CTOs\, CIOs\, CDOs\, IT Directors\, Compliance Officers\, Data Protection Officers and anyone who is interested in learning more about achieving connected data governance in their organisation. \nDon’t miss out – book your free place now \nPlaces are free but numbers are limited so don’t miss out – book now. \n
URL:https://www.viqtordavis.com/event/achieving-connected-data-governance-unlocking-the-power-of-your-data-to-help-you-effectively-complete-and-comply/
CATEGORIES:Webinars
ATTACH;FMTTYPE=image/jpeg:https://www.viqtordavis.com/wp-content/uploads/2019/01/Fast_Data.jpg
END:VEVENT
BEGIN:VEVENT
DTSTART;TZID=Europe/London:20191106T100000
DTEND;TZID=Europe/London:20191106T110000
DTSTAMP:20190822T075125
CREATED:20190802T062828Z
LAST-MODIFIED:20190802T062914Z
UID:3237-1573034400-1573038000@www.viqtordavis.com
SUMMARY:GDPR one year on - ensuring your organisation will pass its GDPR MOT
DESCRIPTION:GDPR one year on – ensuring your organisation will pass its GDPR MOT\nFree webinar\nNovember 6\, 10-11am \nClick here to book your free place now. \nIt’s a year now since the implementation of GDPR. This time last year you couldn’t move for GDPR information\, advice\, guidance and help. However\, in all the rush to get ready for GDPR in 2018 very little attention was paid to the need to monitor processing for continuous improvement. \nOne year after GDPR\, less than 60% of organisations believe that they are compliant. Data breaches are common\, some involving huge brand names\, and consumers are more concerned than ever about the security of their data. GDPR is very much a live issue still. \nWith the first anniversary of GDPR upon us\, it’s time for many organisations to conduct their annual review. GDPR is a continuous and evolving thing. Your data environment changes all the time\, so you need to be mindful of that to ensure that your GDPR compliance keeps pace. \nSign up for our webinar to learn:- \n\nWhat you need to include in your GDPR annual review\nHow best to conduct your review – a structured approach\nInstilling a ‘data protection by design’ mindset in your organisation\nPutting in place a roadmap of improvements and developing an action plan\nIdentifying commercial opportunities that come from compliance\nHow VIQTOR DAVIS can help you conduct your annual GDPR review\n\nWho should attend?\nThis webinar will be of interest to anyone who is involved in GDPR compliance in their organisation. \nBook your place now\nPlaces are free but numbers are limited so click here to book yours now. \n
URL:https://www.viqtordavis.com/event/gdpr-one-year-on-ensuring-your-organisation-will-pass-its-gdpr-mot-nov19/
CATEGORIES:Webinars
ATTACH;FMTTYPE=image/jpeg:https://www.viqtordavis.com/wp-content/uploads/2019/01/Privacy_Policy.jpg
END:VEVENT
END:VCALENDAR